BEGIN:VCALENDAR
VERSION:2.0
PRODID:SchoolNow
CALSCALE:GREGORIAN
BEGIN:VEVENT
UID:fca25db8-38dc-11ed-b508-0a638940c393
DTSTAMP:20221012T205836Z
SUMMARY:CDD Board Meeting - Oct. 2022
LOCATION:WaterGrass Club\, located at 32711 Windelstraw Drive\, Wesley Chap
 el\, FL 33545
URL;VALUE=URI:https://www.watergrass2cdd.com/calendar/3417837/cdd-board-mee
 ting-oct-2022
DTSTART:20221019T140000Z
DTEND:20221019T150000Z
ATTACH;FILENAME=2022-10-19  WaterGrass II Agenda.pdf;FMTTYPE=application/pd
 f:https://campussuite-storage.s3.amazonaws.com/prod/1558959/8c3f4334-f059-
 11e9-ae80-12606da399aa/2490878/a0fae82c-4a70-11ed-be8a-0204dd289dbd/file/2
 022-10-19  WaterGrass II Agenda.pdf
END:VEVENT
END:VCALENDAR
