BEGIN:VCALENDAR
VERSION:2.0
PRODID:SchoolNow
CALSCALE:GREGORIAN
BEGIN:VEVENT
UID:0a25dfbe-38dd-11ed-acc1-0a638940c393
DTSTAMP:20221129T172321Z
SUMMARY:CDD Board Meeting - Nov. 2022
LOCATION:WaterGrass Club\, located at 32711 Windelstraw Drive\, Wesley Chap
 el\, FL 33545
URL;VALUE=URI:https://www.watergrass2cdd.com/calendar/3417838/cdd-board-mee
 ting-nov-2022
DTSTART:20221130T150000Z
DTEND:20221130T160000Z
ATTACH;FILENAME=2022-11-30 WaterGrass II Agenda Revised.pdf;FMTTYPE=applica
 tion/pdf:https://campussuite-storage.s3.amazonaws.com/prod/1558959/8c3f433
 4-f059-11e9-ae80-12606da399aa/2517259/78b38e90-700a-11ed-a6e0-02e4decb3c33
 /file/2022-11-30 WaterGrass II Agenda Revised.pdf
END:VEVENT
END:VCALENDAR
