BEGIN:VCALENDAR
VERSION:2.0
PRODID:SchoolNow
CALSCALE:GREGORIAN
BEGIN:VEVENT
UID:204bd884-38dd-11ed-b6ad-0a638940c393
DTSTAMP:20230112T204539Z
SUMMARY:CDD Board Meeting - Jan. 2023
LOCATION:WaterGrass Club\, located at 32711 Windelstraw Drive\, Wesley Chap
 el\, FL 33545
URL;VALUE=URI:https://www.watergrass2cdd.com/calendar/3417839/cdd-board-mee
 ting-jan-2023
DTSTART:20230118T150000Z
DTEND:20230118T160000Z
ATTACH;FILENAME=2023-01-18 WaterGrass II Agenda.pdf;FMTTYPE=application/pdf
 :https://campussuite-storage.s3.amazonaws.com/prod/1558959/8c3f4334-f059-1
 1e9-ae80-12606da399aa/2536261/10448d78-92ba-11ed-b177-0e67e1846389/file/20
 23-01-18 WaterGrass II Agenda.pdf
END:VEVENT
END:VCALENDAR
